BEGIN:VCALENDAR
VERSION:2.0
PRODID:-//Birmingham Black Nurses Association Inc. - ECPv6.15.20//NONSGML v1.0//EN
CALSCALE:GREGORIAN
METHOD:PUBLISH
X-WR-CALNAME:Birmingham Black Nurses Association Inc.
X-ORIGINAL-URL:https://birminghambna.org
X-WR-CALDESC:Events for Birmingham Black Nurses Association Inc.
REFRESH-INTERVAL;VALUE=DURATION:PT1H
X-Robots-Tag:noindex
X-PUBLISHED-TTL:PT1H
BEGIN:VTIMEZONE
TZID:America/New_York
BEGIN:DAYLIGHT
TZOFFSETFROM:-0500
TZOFFSETTO:-0400
TZNAME:EDT
DTSTART:20230312T070000
END:DAYLIGHT
BEGIN:STANDARD
TZOFFSETFROM:-0400
TZOFFSETTO:-0500
TZNAME:EST
DTSTART:20231105T060000
END:STANDARD
BEGIN:DAYLIGHT
TZOFFSETFROM:-0500
TZOFFSETTO:-0400
TZNAME:EDT
DTSTART:20240310T070000
END:DAYLIGHT
BEGIN:STANDARD
TZOFFSETFROM:-0400
TZOFFSETTO:-0500
TZNAME:EST
DTSTART:20241103T060000
END:STANDARD
BEGIN:DAYLIGHT
TZOFFSETFROM:-0500
TZOFFSETTO:-0400
TZNAME:EDT
DTSTART:20250309T070000
END:DAYLIGHT
BEGIN:STANDARD
TZOFFSETFROM:-0400
TZOFFSETTO:-0500
TZNAME:EST
DTSTART:20251102T060000
END:STANDARD
END:VTIMEZONE
BEGIN:VEVENT
DTSTART;TZID=America/New_York:20240115T180000
DTEND;TZID=America/New_York:20240115T193000
DTSTAMP:20260423T085942
CREATED:20231018T032823Z
LAST-MODIFIED:20251210T142905Z
UID:10000078-1705341600-1705347000@birminghambna.org
SUMMARY:BBNA Monthly Membership Meeting
DESCRIPTION:We meet via zoom and in person at Herzing University.
URL:https://birminghambna.org/event/bbna-monthly-membership-meeting/2024-01-15/
LOCATION:AL
END:VEVENT
BEGIN:VEVENT
DTSTART;TZID=America/New_York:20240123T180000
DTEND;TZID=America/New_York:20240123T200000
DTSTAMP:20260423T085942
CREATED:20240112T234008Z
LAST-MODIFIED:20240112T234008Z
UID:10000015-1706032800-1706040000@birminghambna.org
SUMMARY:2024 Membership Open House
DESCRIPTION:Please join us for BBNA Membership Open House!! \nRSVP Javier Davis bbnamembership@gmail.com \n 
URL:https://birminghambna.org/event/2024-membership-open-house/
LOCATION:UAB CPM\, 1713 6th ave S\, Birmingham\, AL\, 35233\, United States
ATTACH;FMTTYPE=image/jpeg:https://birminghambna.org/wp-content/uploads/sites/16/2024/01/image0-1.jpeg
END:VEVENT
END:VCALENDAR